BEGIN:VCALENDAR
VERSION:2.0
PRODID:-//Dyal Singh College | University of Delhi - ECPv6.0.4//NONSGML v1.0//EN
CALSCALE:GREGORIAN
METHOD:PUBLISH
X-ORIGINAL-URL:https://www.dsc.du.ac.in
X-WR-CALDESC:Events for Dyal Singh College | University of Delhi
REFRESH-INTERVAL;VALUE=DURATION:PT1H
X-Robots-Tag:noindex
X-PUBLISHED-TTL:PT1H
BEGIN:VTIMEZONE
TZID:Asia/Kolkata
BEGIN:STANDARD
TZOFFSETFROM:+0530
TZOFFSETTO:+0530
TZNAME:IST
DTSTART:20220101T000000
END:STANDARD
END:VTIMEZONE
BEGIN:VEVENT
DTSTART;TZID=Asia/Kolkata:20221015T080000
DTEND;TZID=Asia/Kolkata:20221015T170000
DTSTAMP:20260423T161313
CREATED:20221015T052337Z
LAST-MODIFIED:20221015T052337Z
UID:8041-1665820800-1665853200@www.dsc.du.ac.in
SUMMARY:Press Release - Display of Simulated Ranks on the Dashboard of the Candidates - University of Delhi
DESCRIPTION:
URL:https://www.dsc.du.ac.in/wp-content/uploads/2022/10/Press-Release-Display-of-Simulated-Ranks-on-the-Dashboard-of-Candidates.pdf#new_tab
CATEGORIES:Students
END:VEVENT
END:VCALENDAR