BEGIN:VCALENDAR
VERSION:2.0
PRODID:-//Dyal Singh College | University of Delhi - ECPv6.0.4//NONSGML v1.0//EN
CALSCALE:GREGORIAN
METHOD:PUBLISH
X-WR-CALNAME:Dyal Singh College | University of Delhi
X-ORIGINAL-URL:https://www.dsc.du.ac.in
X-WR-CALDESC:Events for Dyal Singh College | University of Delhi
REFRESH-INTERVAL;VALUE=DURATION:PT1H
X-Robots-Tag:noindex
X-PUBLISHED-TTL:PT1H
BEGIN:VTIMEZONE
TZID:Asia/Kolkata
BEGIN:STANDARD
TZOFFSETFROM:+0530
TZOFFSETTO:+0530
TZNAME:IST
DTSTART:20220101T000000
END:STANDARD
END:VTIMEZONE
BEGIN:VEVENT
DTSTART;VALUE=DATE:20221012
DTEND;VALUE=DATE:20221013
DTSTAMP:20260421T073943
CREATED:20221012T045918Z
LAST-MODIFIED:20221012T045918Z
UID:7984-1665532800-1665619199@www.dsc.du.ac.in
SUMMARY:Press Release - Schedule for Phase III of CSAS for UG Admissions - 2022-2023
DESCRIPTION:
URL:https://www.dsc.du.ac.in/wp-content/uploads/2022/10/Press-Release-Schedule-for-Phase-III-of-CSAS-for-UG-Admissions-2022-2023-1.pdf#new_tab
CATEGORIES:Announcements,General
END:VEVENT
BEGIN:VEVENT
DTSTART;VALUE=DATE:20221012
DTEND;VALUE=DATE:20221013
DTSTAMP:20260421T073943
CREATED:20221012T065008Z
LAST-MODIFIED:20221012T065008Z
UID:8008-1665532800-1665619199@www.dsc.du.ac.in
SUMMARY:Invited Talk on "Healthy body & mind through Ayurveda (Stress Management)" (Department of Mathematics)
DESCRIPTION:
URL:https://www.dsc.du.ac.in/wp-content/uploads/2022/10/MATHS2.jpg#new_tab
CATEGORIES:Students,Teaching
END:VEVENT
BEGIN:VEVENT
DTSTART;VALUE=DATE:20221012
DTEND;VALUE=DATE:20221013
DTSTAMP:20260421T073943
CREATED:20221012T072128Z
LAST-MODIFIED:20221012T072128Z
UID:8013-1665532800-1665619199@www.dsc.du.ac.in
SUMMARY:Rangoli Competition on Mathematical Shapes (Department of Mathematics)
DESCRIPTION:
URL:https://www.dsc.du.ac.in/wp-content/uploads/2022/10/MATHS-1.jpg#new_tab
CATEGORIES:Students,Teaching
END:VEVENT
BEGIN:VEVENT
DTSTART;VALUE=DATE:20221012
DTEND;VALUE=DATE:20221013
DTSTAMP:20260421T073943
CREATED:20221012T073849Z
LAST-MODIFIED:20221012T145558Z
UID:8025-1665532800-1665619199@www.dsc.du.ac.in
SUMMARY:Notification (Reg: Discrepancies removal regarding: Screening of Applications for Assistant Professor (Dept of Chemistry) vide Advt No: DSC/ADMN/399 dated 22.08.22)
DESCRIPTION:
URL:https://www.dsc.du.ac.in/wp-content/uploads/2022/10/ap-recruitment.pdf#new_tab
CATEGORIES:Announcements,General,Job Opportunities Teaching Positions
END:VEVENT
END:VCALENDAR