BEGIN:VCALENDAR
VERSION:2.0
PRODID:-//Dyal Singh College | University of Delhi - ECPv6.0.4//NONSGML v1.0//EN
CALSCALE:GREGORIAN
METHOD:PUBLISH
X-ORIGINAL-URL:https://www.dsc.du.ac.in
X-WR-CALDESC:Events for Dyal Singh College | University of Delhi
REFRESH-INTERVAL;VALUE=DURATION:PT1H
X-Robots-Tag:noindex
X-PUBLISHED-TTL:PT1H
BEGIN:VTIMEZONE
TZID:Asia/Kolkata
BEGIN:STANDARD
TZOFFSETFROM:+0530
TZOFFSETTO:+0530
TZNAME:IST
DTSTART:20220101T000000
END:STANDARD
END:VTIMEZONE
BEGIN:VEVENT
DTSTART;TZID=Asia/Kolkata:20220920T080000
DTEND;TZID=Asia/Kolkata:20220920T170000
DTSTAMP:20260420T142849
CREATED:20220920T030658Z
LAST-MODIFIED:20220920T030658Z
UID:7565-1663660800-1663693200@www.dsc.du.ac.in
SUMMARY:Walk-in Interviews for Faculty (Assistant Professor-Guest Basis \, Dept. of Chemistry)
DESCRIPTION:
URL:https://www.dsc.du.ac.in/wp-content/uploads/2022/09/guest-faculty-interview-chemistry-DYAL-SINGH-COLLEGE-1.pdf#new_tab
CATEGORIES:Job Opportunities Teaching Positions
END:VEVENT
BEGIN:VEVENT
DTSTART;VALUE=DATE:20220921
DTEND;VALUE=DATE:20220922
DTSTAMP:20260420T142849
CREATED:20220921T101014Z
LAST-MODIFIED:20220921T101014Z
UID:7571-1663718400-1663804799@www.dsc.du.ac.in
SUMMARY:Notice (Reg: Rebate in Monthly Income Tax )
DESCRIPTION:
URL:https://www.dsc.du.ac.in/wp-content/uploads/2022/09/income-tax-rebate.pdf#new_tab
CATEGORIES:Non Teaching,Teaching
END:VEVENT
END:VCALENDAR