BEGIN:VCALENDAR
VERSION:2.0
PRODID:-//Dyal Singh College | University of Delhi - ECPv6.0.4//NONSGML v1.0//EN
CALSCALE:GREGORIAN
METHOD:PUBLISH
X-ORIGINAL-URL:https://www.dsc.du.ac.in
X-WR-CALDESC:Events for Dyal Singh College | University of Delhi
REFRESH-INTERVAL;VALUE=DURATION:PT1H
X-Robots-Tag:noindex
X-PUBLISHED-TTL:PT1H
BEGIN:VTIMEZONE
TZID:Asia/Kolkata
BEGIN:STANDARD
TZOFFSETFROM:+0530
TZOFFSETTO:+0530
TZNAME:IST
DTSTART:20220101T000000
END:STANDARD
END:VTIMEZONE
BEGIN:VEVENT
DTSTART;VALUE=DATE:20220919
DTEND;VALUE=DATE:20220920
DTSTAMP:20260420T142838
CREATED:20220919T092802Z
LAST-MODIFIED:20220919T100250Z
UID:7561-1663545600-1663631999@www.dsc.du.ac.in
SUMMARY:Notice (Reg: Display of Internal Assessment (IA) Marks August 2022 Examination)
DESCRIPTION:
URL:https://www.dsc.du.ac.in/wp-content/uploads/2022/09/IA-Notice-August-22-Sem-22.pdf#new_tab
CATEGORIES:Students
END:VEVENT
BEGIN:VEVENT
DTSTART;TZID=Asia/Kolkata:20220919T080000
DTEND;TZID=Asia/Kolkata:20220919T170000
DTSTAMP:20260420T142838
CREATED:20220919T030136Z
LAST-MODIFIED:20220919T030136Z
UID:7529-1663574400-1663606800@www.dsc.du.ac.in
SUMMARY:Walk-in Interviews for Faculty (Assistant Professor-Guest Basis \, Dept. of Economics)
DESCRIPTION:
URL:https://www.dsc.du.ac.in/wp-content/uploads/2022/09/guest-interview-economic-DYAL-SINGH-COLLEGE-.pdf#new_tab
CATEGORIES:Job Opportunities Teaching Positions
END:VEVENT
END:VCALENDAR