BEGIN:VCALENDAR
VERSION:2.0
PRODID:-//Dyal Singh College | University of Delhi - ECPv6.0.4//NONSGML v1.0//EN
CALSCALE:GREGORIAN
METHOD:PUBLISH
X-WR-CALNAME:Dyal Singh College | University of Delhi
X-ORIGINAL-URL:https://www.dsc.du.ac.in
X-WR-CALDESC:Events for Dyal Singh College | University of Delhi
REFRESH-INTERVAL;VALUE=DURATION:PT1H
X-Robots-Tag:noindex
X-PUBLISHED-TTL:PT1H
BEGIN:VTIMEZONE
TZID:Asia/Kolkata
BEGIN:STANDARD
TZOFFSETFROM:+0530
TZOFFSETTO:+0530
TZNAME:IST
DTSTART:20220101T000000
END:STANDARD
END:VTIMEZONE
BEGIN:VEVENT
DTSTART;VALUE=DATE:20220902
DTEND;VALUE=DATE:20220903
DTSTAMP:20260420T182344
CREATED:20220902T092200Z
LAST-MODIFIED:20220902T103657Z
UID:7390-1662076800-1662163199@www.dsc.du.ac.in
SUMMARY:Online applications are invited for appointment of the post of Assistant Professor in various department
DESCRIPTION:
URL:https://www.dsc.du.ac.in/wp-content/uploads/2022/09/FINAL-TEACHING-2-1-f.pdf#new_tab
CATEGORIES:Announcements,Job Opportunities Teaching Positions
END:VEVENT
END:VCALENDAR